BEGIN:VCALENDAR
VERSION:2.0
PRODID:icalendar-ruby
CALSCALE:GREGORIAN
METHOD:PUBLISH
BEGIN:VEVENT
DTSTAMP:20260422T115356Z
UID:7-843152@empoweredlife.tithelysetup5.com
DTSTART:20261025T160000Z
DTEND:20261025T163000Z
CLASS:PUBLIC
CREATED:20260422T041647
DESCRIPTION:Join us from 9-9:30 am for pre-service prayer!
LAST-MODIFIED:20260422T041647
LOCATION:322 South Pacific Hwy Talent\, OR 97540
SUMMARY:Pre-Service Prayer
URL;VALUE=URI:https://empoweredlifechurch.org/events/pre-service-prayer/202
 6-10-25
ATTACH;FILENAME=Free-event-example.png;FMTTYPE=image/png:https://dq5pwpg1q8
 ru0.cloudfront.net/2024/10/10/16/45/12/4339c068-9e69-4b2e-993e-3d6fdfb736c
 6/Free-event-example.png
END:VEVENT
END:VCALENDAR
